BEGIN:VCALENDAR
VERSION:2.0
PRODID:-//Credit Union.Education - ECPv6.8.1//NONSGML v1.0//EN
CALSCALE:GREGORIAN
METHOD:PUBLISH
X-WR-CALNAME:Credit Union.Education
X-ORIGINAL-URL:https://calendar.creditunion.education
X-WR-CALDESC:Events for Credit Union.Education
REFRESH-INTERVAL;VALUE=DURATION:PT1H
X-Robots-Tag:noindex
X-PUBLISHED-TTL:PT1H
BEGIN:VTIMEZONE
TZID:UTC
BEGIN:STANDARD
TZOFFSETFROM:+0000
TZOFFSETTO:+0000
TZNAME:UTC
DTSTART:20240101T000000
END:STANDARD
END:VTIMEZONE
BEGIN:VEVENT
DTSTART;TZID=UTC:20241218T080000
DTEND;TZID=UTC:20241218T170000
DTSTAMP:20260423T090634
CREATED:20241104T235112Z
LAST-MODIFIED:20241104T235112Z
UID:101-1734508800-1734541200@calendar.creditunion.education
SUMMARY:Determining When to File a SAR 2
DESCRIPTION:test
URL:https://calendar.creditunion.education/event/determining-when-to-file-a-sar-2/
END:VEVENT
END:VCALENDAR